BEGIN:VCALENDAR
VERSION:2.0
PRODID:-//Plone.org//NONSGML plone.app.event//EN
X-WR-TIMEZONE:Europe/Madrid
BEGIN:VEVENT
SUMMARY:Concerts: Dr. Prats + La Banda Biruji
DTSTART;TZID=Europe/Madrid;VALUE=DATE-TIME:20160904T233000
DTEND;TZID=Europe/Madrid;VALUE=DATE-TIME:20160905T003000
DTSTAMP;VALUE=DATE-TIME:20260422T023420Z
UID:fe2c2a16fa7cd6413014de784f4775c2
CREATED;VALUE=DATE-TIME:20160904T000000Z
CATEGORIES:Música
LOCATION:Plaça Comte del Montseny, escenari gran - Plaça Comte del Montseny
COMMENT:Durada: fins les 5 de la matinada
DESCRIPTION:Festa Major de setembre 2016
URL:https://www.santceloni.cat/document.php?id=16846
END:VEVENT
END:VCALENDAR