BEGIN:VCALENDAR
VERSION:2.0
PRODID:-//Plone.org//NONSGML plone.app.event//EN
X-WR-TIMEZONE:Europe/Madrid
BEGIN:VEVENT
SUMMARY:Concert de Festa Major
DTSTART;TZID=Europe/Madrid;VALUE=DATE-TIME:20160903T180000
DTEND;TZID=Europe/Madrid;VALUE=DATE-TIME:20160903T190000
DTSTAMP;VALUE=DATE-TIME:20260422T051855Z
UID:5703a4528b3c309bc0453190bb5e2e79
CREATED;VALUE=DATE-TIME:20160903T000000Z
CATEGORIES:Festa,Música
LOCATION:Teatre Ateneu, Sala Gran - Germà Emilià, 1
DESCRIPTION:Festa Major de setembre 2016
URL:https://www.santceloni.cat/document.php?id=16868
END:VEVENT
END:VCALENDAR