BEGIN:VCALENDAR
VERSION:2.0
PRODID:-//Plone.org//NONSGML plone.app.event//EN
X-WR-TIMEZONE:Europe/Madrid
BEGIN:VEVENT
SUMMARY:Festival Holi
DTSTART;TZID=Europe/Madrid;VALUE=DATE-TIME:20160903T180000
DTEND;TZID=Europe/Madrid;VALUE=DATE-TIME:20160903T190000
DTSTAMP;VALUE=DATE-TIME:20260422T063211Z
UID:c4e6278e65f5488949a16eec3905fcb7
CREATED;VALUE=DATE-TIME:20160903T000000Z
CATEGORIES:Festa
LOCATION:Pàrking del pavelló - c. Esteve Cardelús - Av. Catalunya
ORGANIZER:Comissió Jove
DESCRIPTION:Festa Major de setembre 2016
URL:https://www.santceloni.cat/document.php?id=16869
END:VEVENT
END:VCALENDAR