BEGIN:VCALENDAR
VERSION:2.0
PRODID:-//Plone.org//NONSGML plone.app.event//EN
X-WR-TIMEZONE:Europe/Madrid
BEGIN:VEVENT
SUMMARY:Ballada i taller de danses del món
DTSTART;TZID=Europe/Madrid;VALUE=DATE-TIME:20160904T190000
DTEND;TZID=Europe/Madrid;VALUE=DATE-TIME:20160904T200000
DTSTAMP;VALUE=DATE-TIME:20260422T063755Z
UID:3534e7a8f38dbe7415f13b7776e1227a
CREATED;VALUE=DATE-TIME:20160904T000000Z
CATEGORIES:Festa
LOCATION:Plaça de la Biblioteca - Plaça de la Biblioteca
ORGANIZER:Passaltpas
DESCRIPTION:Festa Major de setembre 2016
URL:https://www.santceloni.cat/document.php?id=16884
END:VEVENT
END:VCALENDAR