BEGIN:VCALENDAR
VERSION:2.0
PRODID:-//Plone.org//NONSGML plone.app.event//EN
X-WR-TIMEZONE:Europe/Madrid
BEGIN:VEVENT
SUMMARY:Trobada Capgrossos
DTSTART;TZID=Europe/Madrid;VALUE=DATE-TIME:20160904T193000
DTEND;TZID=Europe/Madrid;VALUE=DATE-TIME:20160904T203000
DTSTAMP;VALUE=DATE-TIME:20260422T161125Z
UID:d514d0dcf73726980c24632f75084936
CREATED;VALUE=DATE-TIME:20160904T000000Z
CATEGORIES:Festa
LOCATION:Passeig 11 de setembre - Passeig 11 de setembre
ORGANIZER:Associació de Bocs i Cabres de Sant Celoni
DESCRIPTION:Festa Major de setembre 2016
URL:https://www.santceloni.cat/document.php?id=16885
END:VEVENT
END:VCALENDAR