BEGIN:VCALENDAR
VERSION:2.0
PRODID:-//Plone.org//NONSGML plone.app.event//EN
X-WR-TIMEZONE:Europe/Madrid
BEGIN:VEVENT
SUMMARY:Fi de Festa Major
DTSTART;TZID=Europe/Madrid;VALUE=DATE-TIME:20160905T200000
DTEND;TZID=Europe/Madrid;VALUE=DATE-TIME:20160905T210000
DTSTAMP;VALUE=DATE-TIME:20260421T102516Z
UID:ad722fd94005d843d1eecff7800dbbee
CREATED;VALUE=DATE-TIME:20160905T000000Z
CATEGORIES:Festa
LOCATION:Plaça de la Vila - Plaça de la Vila
DESCRIPTION:Festa Major de setembre 2016
URL:https://www.santceloni.cat/document.php?id=16897
END:VEVENT
END:VCALENDAR