BEGIN:VCALENDAR
VERSION:2.0
PRODID:-//Plone.org//NONSGML plone.app.event//EN
X-WR-TIMEZONE:Europe/Madrid
BEGIN:VEVENT
SUMMARY:Ball, amb l'Orquestra Què Tal
DTSTART;TZID=Europe/Madrid;VALUE=DATE-TIME:20161113T173000
DTEND;TZID=Europe/Madrid;VALUE=DATE-TIME:20161113T183000
DTSTAMP;VALUE=DATE-TIME:20260422T105705Z
UID:6f25e2e99a0f50c442638b77cdf71b9a
CREATED;VALUE=DATE-TIME:20161113T000000Z
CATEGORIES:Música
LOCATION:Teatre Ateneu, Sala Gran - Germà Emilià, 1
COMMENT:Preu: Entrada lliure
DESCRIPTION:Festes de Sant Martí 2016
URL:https://www.santceloni.cat/document.php?id=17045
END:VEVENT
END:VCALENDAR