BEGIN:VCALENDAR
VERSION:2.0
PRODID:-//Plone.org//NONSGML plone.app.event//EN
X-WR-TIMEZONE:Europe/Madrid
BEGIN:VEVENT
SUMMARY:CREA-mos: Taller d'activitats plàstiques per desenvolupar la creativitat
DTSTART;TZID=Europe/Madrid;VALUE=DATE-TIME:20161001T103000
DTEND;TZID=Europe/Madrid;VALUE=DATE-TIME:20161001T113000
DTSTAMP;VALUE=DATE-TIME:20260420T164739Z
UID:ec3e487b96382499d5d85319dd18284b
CREATED;VALUE=DATE-TIME:20161001T000000Z
CATEGORIES:Cursos
LOCATION:L'Eixam cultural - carrer Major, 179
ORGANIZER:Violeta Valdor. Pintora
COMMENT:Preu: Gratuit
Durada: dues tandes de 90 minuts
DESCRIPTION:Activitats de l'Eixam
URL:https://www.santceloni.cat/document.php?id=17095
END:VEVENT
END:VCALENDAR