BEGIN:VCALENDAR
VERSION:2.0
PRODID:-//Plone.org//NONSGML plone.app.event//EN
X-WR-TIMEZONE:Europe/Madrid
BEGIN:VEVENT
SUMMARY:La por del passadís, de Raimon Portell
DTSTART;TZID=Europe/Madrid;VALUE=DATE-TIME:20161022T110000
DTEND;TZID=Europe/Madrid;VALUE=DATE-TIME:20161022T120000
DTSTAMP;VALUE=DATE-TIME:20260423T154012Z
UID:6eab8765d7f08604d8c1ce9ef3256c20
CREATED;VALUE=DATE-TIME:20161022T000000Z
CATEGORIES:Infantils
LOCATION:Biblioteca l'Escorxador - Pg. de la Rectoria Vella, 10
DESCRIPTION:Laboratori de lectura, a càrrec de Sergi Portela, il·lustrador
URL:https://www.santceloni.cat/document.php?id=17100
END:VEVENT
END:VCALENDAR