BEGIN:VCALENDAR
VERSION:2.0
PRODID:-//Plone.org//NONSGML plone.app.event//EN
X-WR-TIMEZONE:Europe/Madrid
BEGIN:VEVENT
SUMMARY:Tertúlia literària al voltant de Viatges amb Heròdot, de Ryszard Kapuscinski
DTSTART;TZID=Europe/Madrid;VALUE=DATE-TIME:20161020T190000
DTEND;TZID=Europe/Madrid;VALUE=DATE-TIME:20161020T200000
DTSTAMP;VALUE=DATE-TIME:20260423T112149Z
UID:7fa45a56435168bc2d7b30b077f678fb
CREATED;VALUE=DATE-TIME:20161020T000000Z
CATEGORIES:Literatura
LOCATION:Biblioteca l'Escorxador - Pg. de la Rectoria Vella, 10
DESCRIPTION:Club de lectura Carretera & Manta
URL:https://www.santceloni.cat/document.php?id=17101
END:VEVENT
END:VCALENDAR