BEGIN:VCALENDAR
VERSION:2.0
PRODID:-//Plone.org//NONSGML plone.app.event//EN
X-WR-TIMEZONE:Europe/Madrid
BEGIN:VEVENT
SUMMARY:Taller: L'autoestima com a llavor de futur
DTSTART;TZID=Europe/Madrid;VALUE=DATE-TIME:20170126T173000
DTEND;TZID=Europe/Madrid;VALUE=DATE-TIME:20170126T183000
DTSTAMP;VALUE=DATE-TIME:20260421T102612Z
UID:197cf8d53d1e2eb6f0ec390e83cf8271
CREATED;VALUE=DATE-TIME:20170126T000000Z
CATEGORIES:Conferència
LOCATION:Escola bressol municipal - Pere Ferrer, 15
COMMENT:Preu: Gratuït
Durada: 90 min.
DESCRIPTION:Tallers per a pares i mares d'infants de 0 a 3 anys. Cal inscripció prèvia!
URL:https://www.santceloni.cat/document.php?id=17184
END:VEVENT
END:VCALENDAR