BEGIN:VCALENDAR
VERSION:2.0
PRODID:-//Plone.org//NONSGML plone.app.event//EN
X-WR-TIMEZONE:Europe/Madrid
BEGIN:VEVENT
SUMMARY:Missa solemne de Sant Martí
DTSTART;TZID=Europe/Madrid;VALUE=DATE-TIME:20161111T200000
DTEND;TZID=Europe/Madrid;VALUE=DATE-TIME:20161111T210000
DTSTAMP;VALUE=DATE-TIME:20260423T200657Z
UID:08ccba22a3ade044be37a1eb971053ae
CREATED;VALUE=DATE-TIME:20161111T000000Z
LOCATION:Església parroquial Sant Martí - Pl. de l'Església, s/n
URL:https://www.santceloni.cat/document.php?id=17236
END:VEVENT
END:VCALENDAR