BEGIN:VCALENDAR
VERSION:2.0
PRODID:-//Plone.org//NONSGML plone.app.event//EN
X-WR-TIMEZONE:Europe/Madrid
BEGIN:VEVENT
SUMMARY:Inflables
DTSTART;TZID=Europe/Madrid;VALUE=DATE-TIME:20161228T173000
DTEND;TZID=Europe/Madrid;VALUE=DATE-TIME:20161228T183000
DTSTAMP;VALUE=DATE-TIME:20260421T131532Z
UID:0ee4568319fe7ae8fa535d90a3c72090
CREATED;VALUE=DATE-TIME:20161228T000000Z
CATEGORIES:Infantils
LOCATION:Plaça de la Vila - Plaça de la Vila
DESCRIPTION:Per a infants de 0 a 12 anys
URL:https://www.santceloni.cat/document.php?id=17601
END:VEVENT
END:VCALENDAR