BEGIN:VCALENDAR
VERSION:2.0
PRODID:-//Plone.org//NONSGML plone.app.event//EN
X-WR-TIMEZONE:Europe/Madrid
BEGIN:VEVENT
SUMMARY:Taller de ball country
DTSTART;TZID=Europe/Madrid;VALUE=DATE-TIME:20170120T171500
DTEND;TZID=Europe/Madrid;VALUE=DATE-TIME:20170120T181500
DTSTAMP;VALUE=DATE-TIME:20260424T052021Z
UID:4ffbc4274f88b8d93d44380a6799dc93
CREATED;VALUE=DATE-TIME:20170120T000000Z
CATEGORIES:Dansa
LOCATION:La Clau - c. Alguersuari, 16
COMMENT:Preu: Intercanvi de temps
DESCRIPTION:Activitats del Banc del Temps
URL:https://www.santceloni.cat/document.php?id=17854
END:VEVENT
END:VCALENDAR