BEGIN:VCALENDAR
VERSION:2.0
PRODID:-//Plone.org//NONSGML plone.app.event//EN
X-WR-TIMEZONE:Europe/Madrid
BEGIN:VEVENT
SUMMARY:Taller d'Astrologia
DTSTART;TZID=Europe/Madrid;VALUE=DATE-TIME:20170404T100000
DTEND;TZID=Europe/Madrid;VALUE=DATE-TIME:20170404T110000
DTSTAMP;VALUE=DATE-TIME:20260422T112224Z
UID:03bcfb0fc567d0d8753cd88332c6a379
CREATED;VALUE=DATE-TIME:20170404T000000Z
CATEGORIES:Cursos
LOCATION:Hotel Suís - Major, 15
ORGANIZER:Banc del Temps
DESCRIPTION:Activitats del Banc del Temps
URL:https://www.santceloni.cat/document.php?id=17969
END:VEVENT
END:VCALENDAR