BEGIN:VCALENDAR
VERSION:2.0
PRODID:-//Plone.org//NONSGML plone.app.event//EN
X-WR-TIMEZONE:Europe/Madrid
BEGIN:VEVENT
SUMMARY:Jornada de portes obertes
DTSTART;TZID=Europe/Madrid;VALUE=DATE-TIME:20170316T093000
DTEND;TZID=Europe/Madrid;VALUE=DATE-TIME:20170316T103000
DTSTAMP;VALUE=DATE-TIME:20260422T205352Z
UID:d84724a1afaf05673f745ed453175f83
CREATED;VALUE=DATE-TIME:20170316T000000Z
LOCATION:Escola Josep Pallerola - Consolat de Mar, s/n
COMMENT:Durada: De les 9.30 a les 11 h
DESCRIPTION:Escola Josep Pallerola
URL:https://www.santceloni.cat/document.php?id=18021
END:VEVENT
END:VCALENDAR