BEGIN:VCALENDAR
VERSION:2.0
PRODID:-//Plone.org//NONSGML plone.app.event//EN
X-WR-TIMEZONE:Europe/Madrid
BEGIN:VEVENT
SUMMARY:Taller de ball country
DTSTART;TZID=Europe/Madrid;VALUE=DATE-TIME:20170310T171500
DTEND;TZID=Europe/Madrid;VALUE=DATE-TIME:20170310T181500
DTSTAMP;VALUE=DATE-TIME:20260424T150730Z
UID:88593227e03082aeceffe8fcd1fe8bac
CREATED;VALUE=DATE-TIME:20170310T000000Z
CATEGORIES:Dansa
LOCATION:La Clau - c. Alguersuari, 16
ORGANIZER:Banc del Temps
COMMENT:Preu: Intercanvi de temps
Durada: Cada divendres
DESCRIPTION:Activitats del Banc del Temps
URL:https://www.santceloni.cat/document.php?id=18245
END:VEVENT
END:VCALENDAR