BEGIN:VCALENDAR
VERSION:2.0
PRODID:-//Plone.org//NONSGML plone.app.event//EN
X-WR-TIMEZONE:Europe/Madrid
BEGIN:VEVENT
SUMMARY:Qi Gong
DTSTART;TZID=Europe/Madrid;VALUE=DATE-TIME:20170314T180000
DTEND;TZID=Europe/Madrid;VALUE=DATE-TIME:20170314T190000
DTSTAMP;VALUE=DATE-TIME:20260422T170017Z
UID:5a1e4bfffb56ef3e0e0b175328cc98b7
CREATED;VALUE=DATE-TIME:20170314T000000Z
LOCATION:La Clau - c. Alguersuari, 16
ORGANIZER:Banc del Temps
COMMENT:Preu: Intercanvi de temps
Durada: Cada divendres
DESCRIPTION:Activitats del Banc del Temps
URL:https://www.santceloni.cat/document.php?id=18251
END:VEVENT
END:VCALENDAR