BEGIN:VCALENDAR
VERSION:2.0
PRODID:-//Plone.org//NONSGML plone.app.event//EN
X-WR-TIMEZONE:Europe/Madrid
BEGIN:VEVENT
SUMMARY:Informació de les activitats del Banc del Temps
DTSTART;TZID=Europe/Madrid;VALUE=DATE-TIME:20170314T190000
DTEND;TZID=Europe/Madrid;VALUE=DATE-TIME:20170314T200000
DTSTAMP;VALUE=DATE-TIME:20260422T124327Z
UID:aea6eea7c53b795b7010831657a4022f
CREATED;VALUE=DATE-TIME:20170314T000000Z
LOCATION:La Clau - c. Alguersuari, 16
ORGANIZER:Banc del Temps
COMMENT:Durada: Cada dimarts
URL:https://www.santceloni.cat/document.php?id=18252
END:VEVENT
END:VCALENDAR