BEGIN:VCALENDAR
VERSION:2.0
PRODID:-//Plone.org//NONSGML plone.app.event//EN
X-WR-TIMEZONE:Europe/Madrid
BEGIN:VEVENT
SUMMARY:Documentals: De l'alpinisme al Big Wall i Les pubilles, les dones escaladores a Catalunya, amb Àngel Vedo
DTSTART;TZID=Europe/Madrid;VALUE=DATE-TIME:20170317T210000
DTEND;TZID=Europe/Madrid;VALUE=DATE-TIME:20170317T220000
DTSTAMP;VALUE=DATE-TIME:20260422T091610Z
UID:fc451d41743e201c3ea4e63e23a30be7
CREATED;VALUE=DATE-TIME:20170317T000000Z
CATEGORIES:Esports,Cinema
LOCATION:Sala Bernat Martorell de Can Ramis - Pl. de la Vila, 25
ORGANIZER:Centre Excursionista Sant Celoni
COMMENT:Preu: Gratuït
Durada: 1 hora
DESCRIPTION:Activitats del CESC
URL:https://www.santceloni.cat/document.php?id=18264
END:VEVENT
END:VCALENDAR