BEGIN:VCALENDAR
VERSION:2.0
PRODID:-//Plone.org//NONSGML plone.app.event//EN
X-WR-TIMEZONE:Europe/Madrid
BEGIN:VEVENT
SUMMARY:Exposició Antonio Niebla. Testimoni personal
DTSTART;TZID=Europe/Madrid;VALUE=DATE-TIME:20170514T180000
DTEND;TZID=Europe/Madrid;VALUE=DATE-TIME:20170514T190000
DTSTAMP;VALUE=DATE-TIME:20260421T171926Z
UID:58f3864a20b6c5c559cb334f78d2b4a3
CREATED;VALUE=DATE-TIME:20170514T000000Z
CATEGORIES:Exposició
LOCATION:Rectoria Vella - Parc de la Rectoria Vella, s/n
DESCRIPTION:Visita comentada, a càrrec del galerista
URL:https://www.santceloni.cat/document.php?id=18331
END:VEVENT
END:VCALENDAR