BEGIN:VCALENDAR
VERSION:2.0
PRODID:-//Plone.org//NONSGML plone.app.event//EN
X-WR-TIMEZONE:Europe/Madrid
BEGIN:VEVENT
SUMMARY:Termes i Decumanus de Baetulo (Museu de Badalona)
DTSTART;TZID=Europe/Madrid;VALUE=DATE-TIME:20170513T090000
DTEND;TZID=Europe/Madrid;VALUE=DATE-TIME:20170513T100000
DTSTAMP;VALUE=DATE-TIME:20260422T071426Z
UID:b7f2712ec81d71b48dcad07518fa02b0
CREATED;VALUE=DATE-TIME:20170513T000000Z
LOCATION:Plaça Comte del Montseny - Plaça Comte del Montseny
COMMENT:Preu: 8 &euro; (viatge) + 7 &euro; (entrada museu i visita guiada)
Durada: Matí
DESCRIPTION:Sortides culturals 2017
URL:https://www.santceloni.cat/document.php?id=18421
END:VEVENT
END:VCALENDAR