BEGIN:VCALENDAR
VERSION:2.0
PRODID:-//Plone.org//NONSGML plone.app.event//EN
X-WR-TIMEZONE:Europe/Madrid
BEGIN:VEVENT
SUMMARY:Ball de l'Esplai a l'Ateneu amb Arritmics
DTSTART;TZID=Europe/Madrid;VALUE=DATE-TIME:20170514T180000
DTEND;TZID=Europe/Madrid;VALUE=DATE-TIME:20170514T190000
DTSTAMP;VALUE=DATE-TIME:20260422T191539Z
UID:f3671c145957984029d54a56cdd7590d
CREATED;VALUE=DATE-TIME:20170514T000000Z
CATEGORIES:Música
LOCATION:Teatre Ateneu, Sala Gran - Germà Emilià, 1
COMMENT:Preu: 5&euro; socis, 6&euro; no socis
DESCRIPTION:Activitats de l'Esplai de Gent Gran
URL:https://www.santceloni.cat/document.php?id=18439
END:VEVENT
END:VCALENDAR