BEGIN:VCALENDAR
VERSION:2.0
PRODID:-//Plone.org//NONSGML plone.app.event//EN
X-WR-TIMEZONE:Europe/Madrid
BEGIN:VEVENT
SUMMARY:Informació de les activitats del Banc del Temps
DTSTART;TZID=Europe/Madrid;VALUE=DATE-TIME:20170418T180000
DTEND;TZID=Europe/Madrid;VALUE=DATE-TIME:20170418T190000
DTSTAMP;VALUE=DATE-TIME:20260422T180604Z
UID:de5c4f412970f521140c744e792aa882
CREATED;VALUE=DATE-TIME:20170418T000000Z
LOCATION:La Clau - c. Alguersuari, 16
ORGANIZER:Banc del Temps
COMMENT:Durada: Cada dimarts
URL:https://www.santceloni.cat/document.php?id=18484
END:VEVENT
END:VCALENDAR