BEGIN:VCALENDAR
VERSION:2.0
PRODID:-//Plone.org//NONSGML plone.app.event//EN
X-WR-TIMEZONE:Europe/Madrid
BEGIN:VEVENT
SUMMARY:Informació de les activitats del Banc del Temps
DTSTART;TZID=Europe/Madrid;VALUE=DATE-TIME:20170516T180000
DTEND;TZID=Europe/Madrid;VALUE=DATE-TIME:20170516T190000
DTSTAMP;VALUE=DATE-TIME:20260422T201742Z
UID:8617c100b8ff8b54b49d82d8a243e076
CREATED;VALUE=DATE-TIME:20170516T000000Z
LOCATION:La Clau - c. Alguersuari, 16
ORGANIZER:Banc del Temps
COMMENT:Durada: Cada dimarts
URL:https://www.santceloni.cat/document.php?id=18488
END:VEVENT
END:VCALENDAR