BEGIN:VCALENDAR
VERSION:2.0
PRODID:-//Plone.org//NONSGML plone.app.event//EN
X-WR-TIMEZONE:Europe/Madrid
BEGIN:VEVENT
SUMMARY:Tarot Mitològic
DTSTART;TZID=Europe/Madrid;VALUE=DATE-TIME:20170504T180000
DTEND;TZID=Europe/Madrid;VALUE=DATE-TIME:20170504T190000
DTSTAMP;VALUE=DATE-TIME:20260422T162907Z
UID:48798d5c42d061e074cbac796ba402b4
CREATED;VALUE=DATE-TIME:20170504T000000Z
CATEGORIES:Cursos
LOCATION:Hotel Suís - Major, 15
ORGANIZER:Banc del Temps
COMMENT:Preu: Intercanvi de temps
Durada: Els dijous amb freqüencia quinzenal
URL:https://www.santceloni.cat/document.php?id=18497
END:VEVENT
END:VCALENDAR