BEGIN:VCALENDAR
VERSION:2.0
PRODID:-//Plone.org//NONSGML plone.app.event//EN
X-WR-TIMEZONE:Europe/Madrid
BEGIN:VEVENT
SUMMARY:Ball Country
DTSTART;TZID=Europe/Madrid;VALUE=DATE-TIME:20170512T171500
DTEND;TZID=Europe/Madrid;VALUE=DATE-TIME:20170512T181500
DTSTAMP;VALUE=DATE-TIME:20260422T162820Z
UID:3853f173d4b5128bd8e6e002e4f1a8bc
CREATED;VALUE=DATE-TIME:20170512T000000Z
CATEGORIES:Dansa
LOCATION:La Clau - c. Alguersuari, 16
ORGANIZER:Banc del Temps
COMMENT:Preu: Intercanvi de temps
Durada: Cada divendres
DESCRIPTION:Activitats del Banc del Temps
URL:https://www.santceloni.cat/document.php?id=18502
END:VEVENT
END:VCALENDAR