BEGIN:VCALENDAR
VERSION:2.0
PRODID:-//Plone.org//NONSGML plone.app.event//EN
X-WR-TIMEZONE:Europe/Madrid
BEGIN:VEVENT
SUMMARY:Xerrada: Abordatge mèdic de les demències
DTSTART;TZID=Europe/Madrid;VALUE=DATE-TIME:20170515T153000
DTEND;TZID=Europe/Madrid;VALUE=DATE-TIME:20170515T163000
DTSTAMP;VALUE=DATE-TIME:20260423T052921Z
UID:2f83429cc1e83f0a0daecfcb5a0ca25e
CREATED;VALUE=DATE-TIME:20170515T000000Z
CATEGORIES:Conferència
LOCATION:Sala Bernat Martorell de Can Ramis - Pl. de la Vila, 25
ORGANIZER:Hospital de Sant Celoni
DESCRIPTION:Cicle de sessions informatives sobre les demències
URL:https://www.santceloni.cat/document.php?id=18560
END:VEVENT
END:VCALENDAR