BEGIN:VCALENDAR
VERSION:2.0
PRODID:-//Plone.org//NONSGML plone.app.event//EN
X-WR-TIMEZONE:Europe/Madrid
BEGIN:VEVENT
SUMMARY:Donació de sang
DTSTART;TZID=Europe/Madrid;VALUE=DATE-TIME:20170526T170000
DTEND;TZID=Europe/Madrid;VALUE=DATE-TIME:20170526T180000
DTSTAMP;VALUE=DATE-TIME:20260422T145302Z
UID:0562b9b1a95f139671496aae7b3ee7dc
CREATED;VALUE=DATE-TIME:20170526T000000Z
LOCATION:Can Ramis - Pl. de la Vila, 25
COMMENT:Durada: De 17 a 21 h
DESCRIPTION:Divendres i dissabte a Can Ramis
URL:https://www.santceloni.cat/document.php?id=18563
END:VEVENT
END:VCALENDAR