BEGIN:VCALENDAR
VERSION:2.0
PRODID:-//Plone.org//NONSGML plone.app.event//EN
X-WR-TIMEZONE:Europe/Madrid
BEGIN:VEVENT
SUMMARY:Espectacle de pallassos: De nassos pel Nepal, amb Trup de Nassos
DTSTART;TZID=Europe/Madrid;VALUE=DATE-TIME:20170514T180000
DTEND;TZID=Europe/Madrid;VALUE=DATE-TIME:20170514T190000
DTSTAMP;VALUE=DATE-TIME:20260422T071343Z
UID:f92e005ac212ea8e17f51e08ba7853e6
CREATED;VALUE=DATE-TIME:20170514T000000Z
CATEGORIES:Infantils,Teatre
LOCATION:Teatre Ateneu, Sala Petita - Germà Emilià, 1
ORGANIZER:Trup de Nassos
DESCRIPTION:Setmana per la Pau 2017
URL:https://www.santceloni.cat/document.php?id=18572
END:VEVENT
END:VCALENDAR