BEGIN:VCALENDAR
VERSION:2.0
PRODID:-//Plone.org//NONSGML plone.app.event//EN
X-WR-TIMEZONE:Europe/Madrid
BEGIN:VEVENT
SUMMARY:Cinema en VO: Un doctor en la campiña, de Thomas Lilty
DTSTART;TZID=Europe/Madrid;VALUE=DATE-TIME:20170512T203000
DTEND;TZID=Europe/Madrid;VALUE=DATE-TIME:20170512T213000
DTSTAMP;VALUE=DATE-TIME:20260422T054846Z
UID:981a835730f896bbf0108377b34989de
CREATED;VALUE=DATE-TIME:20170512T000000Z
LOCATION:Sales Ocine - Centre Comercial Altrium - Ctra. C-35 (Porta de ponent)
DESCRIPTION:A 4,50!
URL:https://www.santceloni.cat/document.php?id=18577
END:VEVENT
END:VCALENDAR