BEGIN:VCALENDAR
VERSION:2.0
PRODID:-//Plone.org//NONSGML plone.app.event//EN
X-WR-TIMEZONE:Europe/Madrid
BEGIN:VEVENT
SUMMARY:Tarot Mitològic
DTSTART;TZID=Europe/Madrid;VALUE=DATE-TIME:20170601T103000
DTEND;TZID=Europe/Madrid;VALUE=DATE-TIME:20170601T113000
DTSTAMP;VALUE=DATE-TIME:20260422T101849Z
UID:b0aa2cb1bda6bf10bb87496e594ef938
CREATED;VALUE=DATE-TIME:20170601T000000Z
CATEGORIES:Cursos
LOCATION:Hotel Suís - Major, 15
ORGANIZER:Banc del Temps
COMMENT:Preu: Intercanvi de temps
Durada: Els dijous amb freqüencia quinzenal
DESCRIPTION:Activitats del Banc del Temps
URL:https://www.santceloni.cat/document.php?id=18731
END:VEVENT
END:VCALENDAR