BEGIN:VCALENDAR
VERSION:2.0
PRODID:-//Plone.org//NONSGML plone.app.event//EN
X-WR-TIMEZONE:Europe/Madrid
BEGIN:VEVENT
SUMMARY:Taller de ceràmica RAKÚ
DTSTART;TZID=Europe/Madrid;VALUE=DATE-TIME:20170722T180000
DTEND;TZID=Europe/Madrid;VALUE=DATE-TIME:20170722T190000
DTSTAMP;VALUE=DATE-TIME:20260422T193904Z
UID:de682ab81c5487c153b686cec07a5166
CREATED;VALUE=DATE-TIME:20170722T000000Z
LOCATION:Can Coll - Urb. Can Coll
ORGANIZER:MANS PEL NEPAL
COMMENT:Preu: 35&euro; (taller més piscolabis)
Durada: 4:30h (aprox.)
DESCRIPTION:Activitat solidaria amb la construcció d'un hospital al Nepal.
URL:https://www.santceloni.cat/document.php?id=18907
END:VEVENT
END:VCALENDAR