BEGIN:VCALENDAR
VERSION:2.0
PRODID:-//Plone.org//NONSGML plone.app.event//EN
X-WR-TIMEZONE:Europe/Madrid
BEGIN:VEVENT
SUMMARY:Garanties per a la democràcia
DTSTART;TZID=Europe/Madrid;VALUE=DATE-TIME:20170721T201500
DTEND;TZID=Europe/Madrid;VALUE=DATE-TIME:20170721T211500
DTSTAMP;VALUE=DATE-TIME:20260422T194033Z
UID:1fb113fb44891777cd315cc635e4618a
CREATED;VALUE=DATE-TIME:20170721T000000Z
CATEGORIES:Conferència
LOCATION:Bar del Teatre Ateneu - Ctra. Vella, 25
ORGANIZER:ANC i Òmnium
DESCRIPTION:Xerrada de Jordi Cuminal
URL:https://www.santceloni.cat/document.php?id=19009
END:VEVENT
END:VCALENDAR