BEGIN:VCALENDAR
VERSION:2.0
PRODID:-//Plone.org//NONSGML plone.app.event//EN
X-WR-TIMEZONE:Europe/Madrid
BEGIN:VEVENT
SUMMARY:Taller: Tot és música, per a pares i mares d'infants de 0 a 3 anys
DTSTART;TZID=Europe/Madrid;VALUE=DATE-TIME:20180125T173000
DTEND;TZID=Europe/Madrid;VALUE=DATE-TIME:20180125T183000
DTSTAMP;VALUE=DATE-TIME:20260422T064715Z
UID:74fb352430ec207ce95237f26b87cdda
CREATED;VALUE=DATE-TIME:20180125T000000Z
CATEGORIES:Conferència
LOCATION:Escola Bressol Pascual
COMMENT:Durada: 90 minuts
DESCRIPTION:Cal inscripció prèvia!
URL:https://www.santceloni.cat/document.php?id=19314
END:VEVENT
END:VCALENDAR