BEGIN:VCALENDAR
VERSION:2.0
PRODID:-//Plone.org//NONSGML plone.app.event//EN
X-WR-TIMEZONE:Europe/Madrid
BEGIN:VEVENT
SUMMARY:BiblioLab: La grandesa del més petit
DTSTART;TZID=Europe/Madrid;VALUE=DATE-TIME:20171130T183000
DTEND;TZID=Europe/Madrid;VALUE=DATE-TIME:20171130T193000
DTSTAMP;VALUE=DATE-TIME:20260422T043452Z
UID:95514c23b9419b35d54a5a03ab2c28d2
CREATED;VALUE=DATE-TIME:20171130T000000Z
CATEGORIES:Cursos
LOCATION:Biblioteca l'Escorxador - Pg. de la Rectoria Vella, 10
DESCRIPTION:Taller d'experimentació per a joves i adults
URL:https://www.santceloni.cat/document.php?id=19385
END:VEVENT
END:VCALENDAR