BEGIN:VCALENDAR
VERSION:2.0
PRODID:-//Plone.org//NONSGML plone.app.event//EN
X-WR-TIMEZONE:Europe/Madrid
BEGIN:VEVENT
SUMMARY:ACAMPADA JOVE
DTSTART;TZID=Europe/Madrid;VALUE=DATE-TIME:20070713T000000
DTEND;TZID=Europe/Madrid;VALUE=DATE-TIME:20070713T010000
DTSTAMP;VALUE=DATE-TIME:20260421T212710Z
UID:88b36afbea4f9e6cce9a156904dd22a1
CREATED;VALUE=DATE-TIME:20070713T000000Z
CATEGORIES:Música
LOCATION:Can Sans
ORGANIZER:Joventuts d'Esquerra Republicana de Catalunya
DESCRIPTION:Celtas Cortos + La Troba Kung-Fú + Betagarri + Feliu Ventura + Burman Flash
URL:https://www.santceloni.cat/document.php?id=1959
END:VEVENT
END:VCALENDAR