BEGIN:VCALENDAR
VERSION:2.0
PRODID:-//Plone.org//NONSGML plone.app.event//EN
X-WR-TIMEZONE:Europe/Madrid
BEGIN:VEVENT
SUMMARY:Taller de Hatha ioga
DTSTART;TZID=Europe/Madrid;VALUE=DATE-TIME:20180114T100000
DTEND;TZID=Europe/Madrid;VALUE=DATE-TIME:20180114T110000
DTSTAMP;VALUE=DATE-TIME:20260422T084827Z
UID:79fd43f34164ae716ec02d2160f4fef9
CREATED;VALUE=DATE-TIME:20180114T000000Z
CATEGORIES:Esports
LOCATION:Maishadansa Associació - c. Tarragona, 13
ORGANIZER:Maishadansa Associació
COMMENT:Preu: Aportació voluntària
Durada: Dues hores
DESCRIPTION:Activitats de Maishadansa
URL:https://www.santceloni.cat/document.php?id=19612
END:VEVENT
END:VCALENDAR