BEGIN:VCALENDAR
VERSION:2.0
PRODID:-//Plone.org//NONSGML plone.app.event//EN
X-WR-TIMEZONE:Europe/Madrid
BEGIN:VEVENT
SUMMARY:Cantada de Nadales amb els cors de l'Escola Municipal de Música
DTSTART;TZID=Europe/Madrid;VALUE=DATE-TIME:20171226T113000
DTEND;TZID=Europe/Madrid;VALUE=DATE-TIME:20171226T123000
DTSTAMP;VALUE=DATE-TIME:20260422T175215Z
UID:ddf8c2920e7cd738b6ba461dc8f27522
CREATED;VALUE=DATE-TIME:20171226T000000Z
CATEGORIES:Festa,Música
LOCATION:Teatre Ateneu, Sala Gran - Ctra. Vella, 25
DESCRIPTION:Festes de Nadal i Reis 2017
URL:https://www.santceloni.cat/document.php?id=19696
END:VEVENT
END:VCALENDAR