BEGIN:VCALENDAR
VERSION:2.0
PRODID:-//Plone.org//NONSGML plone.app.event//EN
X-WR-TIMEZONE:Europe/Madrid
BEGIN:VEVENT
SUMMARY:Cinema en VO: Snowden, d'Oliver Stone
DTSTART;TZID=Europe/Madrid;VALUE=DATE-TIME:20180209T203000
DTEND;TZID=Europe/Madrid;VALUE=DATE-TIME:20180209T213000
DTSTAMP;VALUE=DATE-TIME:20260422T124342Z
UID:7d112791b5b543298db1d0042bab8b37
CREATED;VALUE=DATE-TIME:20180209T000000Z
CATEGORIES:Cinema
LOCATION:Sales Ocine - Centre Comercial Altrium - Ctra. C-35 (Porta de ponent)
DESCRIPTION:Programació VO Altrium
URL:https://www.santceloni.cat/document.php?id=19799
END:VEVENT
END:VCALENDAR