BEGIN:VCALENDAR
VERSION:2.0
PRODID:-//Plone.org//NONSGML plone.app.event//EN
X-WR-TIMEZONE:Europe/Madrid
BEGIN:VEVENT
SUMMARY:Ball de l'Esplai a l'Ateneu amb Tempo
DTSTART;TZID=Europe/Madrid;VALUE=DATE-TIME:20180121T180000
DTEND;TZID=Europe/Madrid;VALUE=DATE-TIME:20180121T190000
DTSTAMP;VALUE=DATE-TIME:20260422T145529Z
UID:df7959485ca766a08c8c3ceaef4f8f2e
CREATED;VALUE=DATE-TIME:20180121T000000Z
CATEGORIES:Música
LOCATION:Teatre Ateneu, Sala Gran - Ctra. Vella, 25
COMMENT:Preu: 5 &euro; socis 6 &euro; no socis
DESCRIPTION:Activitats de l'Esplai de Gent Gran
URL:https://www.santceloni.cat/document.php?id=19839
END:VEVENT
END:VCALENDAR