BEGIN:VCALENDAR
VERSION:2.0
PRODID:-//Plone.org//NONSGML plone.app.event//EN
X-WR-TIMEZONE:Europe/Madrid
BEGIN:VEVENT
SUMMARY:Un te i punt
DTSTART;TZID=Europe/Madrid;VALUE=DATE-TIME:20180111T190000
DTEND;TZID=Europe/Madrid;VALUE=DATE-TIME:20180111T200000
DTSTAMP;VALUE=DATE-TIME:20260421T161034Z
UID:5f281bcd19517988d59eccc121a07e0e
CREATED;VALUE=DATE-TIME:20180111T000000Z
LOCATION:La Clau - c. Alguersuari, 16
ORGANIZER:Banc del Temps
DESCRIPTION:Activitats del Banc del Temps
URL:https://www.santceloni.cat/document.php?id=19877
END:VEVENT
END:VCALENDAR