BEGIN:VCALENDAR
VERSION:2.0
PRODID:-//Plone.org//NONSGML plone.app.event//EN
X-WR-TIMEZONE:Europe/Madrid
BEGIN:VEVENT
SUMMARY:Folky funky amb Karol Green
DTSTART;TZID=Europe/Madrid;VALUE=DATE-TIME:20180227T164500
DTEND;TZID=Europe/Madrid;VALUE=DATE-TIME:20180227T174500
DTSTAMP;VALUE=DATE-TIME:20260422T081659Z
UID:75e4255c24b3b9d4d8338748a464f881
CREATED;VALUE=DATE-TIME:20180227T000000Z
CATEGORIES:Dansa
LOCATION:Pavelló Municipal d'Esports - Av. Catalunya, s/n
ORGANIZER:Banc del Temps
COMMENT:Preu: Intercanvi de temps
DESCRIPTION:Activitats del Banc del Temps
URL:https://www.santceloni.cat/document.php?id=19933
END:VEVENT
END:VCALENDAR