BEGIN:VCALENDAR
VERSION:2.0
PRODID:-//Plone.org//NONSGML plone.app.event//EN
X-WR-TIMEZONE:Europe/Madrid
BEGIN:VEVENT
SUMMARY:Ball de disfresses infantil, xocolatada i taller de disfresses
DTSTART;TZID=Europe/Madrid;VALUE=DATE-TIME:20180209T171500
DTEND;TZID=Europe/Madrid;VALUE=DATE-TIME:20180209T181500
DTSTAMP;VALUE=DATE-TIME:20260422T140300Z
UID:b4e2f0ab4fb80d6c2082838b9be7a7f2
CREATED;VALUE=DATE-TIME:20180209T000000Z
CATEGORIES:Festa
LOCATION:Escola Montnegre (la Batllòria) - Escoles, 2, 08476 La Batllòria
ORGANIZER:AMPA de l'Escola Montnegre
DESCRIPTION:Carnaval a la Batllòria
URL:https://www.santceloni.cat/document.php?id=19983
END:VEVENT
END:VCALENDAR