BEGIN:VCALENDAR
VERSION:2.0
PRODID:-//Plone.org//NONSGML plone.app.event//EN
X-WR-TIMEZONE:Europe/Madrid
BEGIN:VEVENT
SUMMARY:Audiovisual: Expedició Tunu, L'altre costat de Groenlàndia, de F. Farré
DTSTART;TZID=Europe/Madrid;VALUE=DATE-TIME:20180302T210000
DTEND;TZID=Europe/Madrid;VALUE=DATE-TIME:20180302T220000
DTSTAMP;VALUE=DATE-TIME:20260422T105243Z
UID:7f9e1e147aeaa354b68371888c7cc0b9
CREATED;VALUE=DATE-TIME:20180302T000000Z
CATEGORIES:Cinema,Conferència
LOCATION:Sala Bernat Martorell de Can Ramis - Pl. de la Vila, 25
ORGANIZER:Centre Excursionista de Sant Celoni (CESC)
COMMENT:Preu: Gratuït
Durada: 1 hora, més col·loqui
DESCRIPTION:Activitats del CESC
URL:https://www.santceloni.cat/document.php?id=20002
END:VEVENT
END:VCALENDAR