BEGIN:VCALENDAR
VERSION:2.0
PRODID:-//Plone.org//NONSGML plone.app.event//EN
X-WR-TIMEZONE:Europe/Madrid
BEGIN:VEVENT
SUMMARY:Recital amb motiu del Dia Mundial de la Poesia
DTSTART;TZID=Europe/Madrid;VALUE=DATE-TIME:20180321T180000
DTEND;TZID=Europe/Madrid;VALUE=DATE-TIME:20180321T190000
DTSTAMP;VALUE=DATE-TIME:20260422T192624Z
UID:93f57bf7e1b31b9f652b01c9f2f6b2b9
CREATED;VALUE=DATE-TIME:20180321T000000Z
CATEGORIES:Literatura
LOCATION:Biblioteca l'Escorxador - Pg. de la Rectoria Vella, 10
ORGANIZER:Oficina de català de Sant Celoni i Biblioteca l'Escorxador.
COMMENT:Preu: Gratuït
DESCRIPTION:A la Biblioteca
URL:https://www.santceloni.cat/document.php?id=20158
END:VEVENT
END:VCALENDAR