BEGIN:VCALENDAR
VERSION:2.0
PRODID:-//Plone.org//NONSGML plone.app.event//EN
X-WR-TIMEZONE:Europe/Madrid
BEGIN:VEVENT
SUMMARY:Sopar de carmanyola
DTSTART;TZID=Europe/Madrid;VALUE=DATE-TIME:20180302T200000
DTEND;TZID=Europe/Madrid;VALUE=DATE-TIME:20180302T210000
DTSTAMP;VALUE=DATE-TIME:20260422T040107Z
UID:01a2ca3717ff80c87df400a13ff0d9b3
CREATED;VALUE=DATE-TIME:20180302T000000Z
CATEGORIES:Festa,Música
LOCATION:Unió Batllorienca - c. Breda, 2
ORGANIZER:Col·lectiu de dones de les Casetes
DESCRIPTION:Dia Internacional de la Dona a la Batllòria
URL:https://www.santceloni.cat/document.php?id=20248
END:VEVENT
END:VCALENDAR