BEGIN:VCALENDAR
VERSION:2.0
PRODID:-//Plone.org//NONSGML plone.app.event//EN
X-WR-TIMEZONE:Europe/Madrid
BEGIN:VEVENT
SUMMARY:AJORNAT!! Macroservei: neteja de la llera de la riera del Sot Gran
DTSTART;TZID=Europe/Madrid;VALUE=DATE-TIME:20180415T110000
DTEND;TZID=Europe/Madrid;VALUE=DATE-TIME:20180415T120000
DTSTAMP;VALUE=DATE-TIME:20260422T021605Z
UID:dbbea91d3fe823b49f57b9dbe801e651
CREATED;VALUE=DATE-TIME:20180415T000000Z
LOCATION:Safareig de la Batllòria
ORGANIZER:AEiG Erol
DESCRIPTION:Activitats de l'AEiG Erol. Properament s'anunciarà nova data
URL:https://www.santceloni.cat/document.php?id=20380
END:VEVENT
END:VCALENDAR