BEGIN:VCALENDAR
VERSION:2.0
PRODID:-//Plone.org//NONSGML plone.app.event//EN
X-WR-TIMEZONE:Europe/Madrid
BEGIN:VEVENT
SUMMARY:Inauguració de l'exposició de Manualitats, dibuixos i pintures
DTSTART;TZID=Europe/Madrid;VALUE=DATE-TIME:20180519T180000
DTEND;TZID=Europe/Madrid;VALUE=DATE-TIME:20180519T190000
DTSTAMP;VALUE=DATE-TIME:20260420T194234Z
UID:a4d0b28c9bbab20a8710a7648e724176
CREATED;VALUE=DATE-TIME:20180519T000000Z
CATEGORIES:Exposició
LOCATION:Casal de l'Esplai de Gent Gran - Balmes, 36
ORGANIZER:Esplai de la Gent Gran
DESCRIPTION:34 Festa Gran
URL:https://www.santceloni.cat/document.php?id=20578
END:VEVENT
END:VCALENDAR