BEGIN:VCALENDAR
VERSION:2.0
PRODID:-//Plone.org//NONSGML plone.app.event//EN
X-WR-TIMEZONE:Europe/Madrid
BEGIN:VEVENT
SUMMARY:Concert amb la Big Band del CME i Ball amb Choffers
DTSTART;TZID=Europe/Madrid;VALUE=DATE-TIME:20180520T170000
DTEND;TZID=Europe/Madrid;VALUE=DATE-TIME:20180520T180000
DTSTAMP;VALUE=DATE-TIME:20260420T222950Z
UID:b3f15c1badf2cedaa8c856e77ccd7fbd
CREATED;VALUE=DATE-TIME:20180520T000000Z
CATEGORIES:Dansa,Música
LOCATION:Teatre Ateneu, Sala Gran - Ctra. Vella, 25
ORGANIZER:Esplai de la Gent Gran
COMMENT:Preu: 7 &euro; socis, 10 &euro; no socis
DESCRIPTION:34 Festa Gran
URL:https://www.santceloni.cat/document.php?id=20579
END:VEVENT
END:VCALENDAR